BEGIN:VCALENDAR
VERSION:2.0
PRODID:-//Solaire en Nord - ECPv6.15.20//NONSGML v1.0//EN
CALSCALE:GREGORIAN
METHOD:PUBLISH
X-WR-CALNAME:Solaire en Nord
X-ORIGINAL-URL:https://solaire-en-nord.fr
X-WR-CALDESC:Évènements pour Solaire en Nord
REFRESH-INTERVAL;VALUE=DURATION:PT1H
X-Robots-Tag:noindex
X-PUBLISHED-TTL:PT1H
BEGIN:VTIMEZONE
TZID:Europe/Paris
BEGIN:DAYLIGHT
TZOFFSETFROM:+0100
TZOFFSETTO:+0200
TZNAME:CEST
DTSTART:20210328T010000
END:DAYLIGHT
BEGIN:STANDARD
TZOFFSETFROM:+0200
TZOFFSETTO:+0100
TZNAME:CET
DTSTART:20211031T010000
END:STANDARD
BEGIN:DAYLIGHT
TZOFFSETFROM:+0100
TZOFFSETTO:+0200
TZNAME:CEST
DTSTART:20220327T010000
END:DAYLIGHT
BEGIN:STANDARD
TZOFFSETFROM:+0200
TZOFFSETTO:+0100
TZNAME:CET
DTSTART:20221030T010000
END:STANDARD
BEGIN:DAYLIGHT
TZOFFSETFROM:+0100
TZOFFSETTO:+0200
TZNAME:CEST
DTSTART:20230326T010000
END:DAYLIGHT
BEGIN:STANDARD
TZOFFSETFROM:+0200
TZOFFSETTO:+0100
TZNAME:CET
DTSTART:20231029T010000
END:STANDARD
END:VTIMEZONE
BEGIN:VEVENT
DTSTART;TZID=Europe/Paris:20220402T000000
DTEND;TZID=Europe/Paris:20220402T000000
DTSTAMP:20260423T232443
CREATED:20230220T171544Z
LAST-MODIFIED:20230220T171544Z
UID:2793-1648857600-1648857600@solaire-en-nord.fr
SUMMARY:Visite de l'installation solaire citoyenne de Tressin
DESCRIPTION:
URL:https://solaire-en-nord.fr/calendrier/visite-de-linstallation-solaire-citoyenne-de-tressin-2/
END:VEVENT
BEGIN:VEVENT
DTSTART;TZID=Europe/Paris:20220406T000000
DTEND;TZID=Europe/Paris:20220406T000000
DTSTAMP:20260423T232443
CREATED:20230220T171544Z
LAST-MODIFIED:20230220T171544Z
UID:2794-1649203200-1649203200@solaire-en-nord.fr
SUMMARY:Tenue de stand lors du marché de Lezennes
DESCRIPTION:
URL:https://solaire-en-nord.fr/calendrier/tenue-de-stand-lors-du-marche-de-lezennes-2/
END:VEVENT
BEGIN:VEVENT
DTSTART;TZID=Europe/Paris:20220407T000000
DTEND;TZID=Europe/Paris:20220407T000000
DTSTAMP:20260423T232443
CREATED:20230220T171744Z
LAST-MODIFIED:20230220T171744Z
UID:2795-1649289600-1649289600@solaire-en-nord.fr
SUMMARY:Présentation énergie citoyenne et visite Mine de Soleil
DESCRIPTION:
URL:https://solaire-en-nord.fr/calendrier/presentation-energie-citoyenne-et-visite-mine-de-soleil-2/
END:VEVENT
BEGIN:VEVENT
DTSTART;TZID=Europe/Paris:20220427T000000
DTEND;TZID=Europe/Paris:20220427T000000
DTSTAMP:20260423T232443
CREATED:20230220T171744Z
LAST-MODIFIED:20230220T171744Z
UID:2796-1651017600-1651017600@solaire-en-nord.fr
SUMMARY:Le solaire à la médiathèque de Lezennes
DESCRIPTION:
URL:https://solaire-en-nord.fr/calendrier/le-solaire-a-la-mediatheque-de-lezennes-2/
END:VEVENT
END:VCALENDAR