BEGIN:VCALENDAR
VERSION:2.0
PRODID:-//Solaire en Nord - ECPv6.15.20//NONSGML v1.0//EN
CALSCALE:GREGORIAN
METHOD:PUBLISH
X-ORIGINAL-URL:https://solaire-en-nord.fr
X-WR-CALDESC:Évènements pour Solaire en Nord
REFRESH-INTERVAL;VALUE=DURATION:PT1H
X-Robots-Tag:noindex
X-PUBLISHED-TTL:PT1H
BEGIN:VTIMEZONE
TZID:Europe/Paris
BEGIN:DAYLIGHT
TZOFFSETFROM:+0100
TZOFFSETTO:+0200
TZNAME:CEST
DTSTART:20210328T010000
END:DAYLIGHT
BEGIN:STANDARD
TZOFFSETFROM:+0200
TZOFFSETTO:+0100
TZNAME:CET
DTSTART:20211031T010000
END:STANDARD
BEGIN:DAYLIGHT
TZOFFSETFROM:+0100
TZOFFSETTO:+0200
TZNAME:CEST
DTSTART:20220327T010000
END:DAYLIGHT
BEGIN:STANDARD
TZOFFSETFROM:+0200
TZOFFSETTO:+0100
TZNAME:CET
DTSTART:20221030T010000
END:STANDARD
BEGIN:DAYLIGHT
TZOFFSETFROM:+0100
TZOFFSETTO:+0200
TZNAME:CEST
DTSTART:20230326T010000
END:DAYLIGHT
BEGIN:STANDARD
TZOFFSETFROM:+0200
TZOFFSETTO:+0100
TZNAME:CET
DTSTART:20231029T010000
END:STANDARD
END:VTIMEZONE
BEGIN:VEVENT
DTSTART;TZID=Europe/Paris:20220503T000000
DTEND;TZID=Europe/Paris:20220503T000000
DTSTAMP:20260423T221327
CREATED:20230220T171744Z
LAST-MODIFIED:20230220T171744Z
UID:2797-1651536000-1651536000@solaire-en-nord.fr
SUMMARY:Lancement du cadastre solaire de la MEL
DESCRIPTION:
URL:https://solaire-en-nord.fr/calendrier/lancement-du-cadastre-solaire-de-la-mel-2/
END:VEVENT
BEGIN:VEVENT
DTSTART;TZID=Europe/Paris:20220513T000000
DTEND;TZID=Europe/Paris:20220513T000000
DTSTAMP:20260423T221327
CREATED:20230220T171744Z
LAST-MODIFIED:20230220T171744Z
UID:2798-1652400000-1652400000@solaire-en-nord.fr
SUMMARY:Séminaire grappe PV
DESCRIPTION:
URL:https://solaire-en-nord.fr/calendrier/seminaire-grappe-pv-2/
END:VEVENT
BEGIN:VEVENT
DTSTART;TZID=Europe/Paris:20220520T000000
DTEND;TZID=Europe/Paris:20220520T000000
DTSTAMP:20260423T221327
CREATED:20230220T171840Z
LAST-MODIFIED:20230220T171840Z
UID:2799-1653004800-1653004800@solaire-en-nord.fr
SUMMARY:Et Demain ?
DESCRIPTION:
URL:https://solaire-en-nord.fr/calendrier/et-demain-2/
END:VEVENT
END:VCALENDAR