BEGIN:VCALENDAR
VERSION:2.0
PRODID:-//Solaire en Nord - ECPv6.15.20//NONSGML v1.0//EN
CALSCALE:GREGORIAN
METHOD:PUBLISH
X-ORIGINAL-URL:https://solaire-en-nord.fr
X-WR-CALDESC:Évènements pour Solaire en Nord
REFRESH-INTERVAL;VALUE=DURATION:PT1H
X-Robots-Tag:noindex
X-PUBLISHED-TTL:PT1H
BEGIN:VTIMEZONE
TZID:Europe/Paris
BEGIN:DAYLIGHT
TZOFFSETFROM:+0100
TZOFFSETTO:+0200
TZNAME:CEST
DTSTART:20210328T010000
END:DAYLIGHT
BEGIN:STANDARD
TZOFFSETFROM:+0200
TZOFFSETTO:+0100
TZNAME:CET
DTSTART:20211031T010000
END:STANDARD
BEGIN:DAYLIGHT
TZOFFSETFROM:+0100
TZOFFSETTO:+0200
TZNAME:CEST
DTSTART:20220327T010000
END:DAYLIGHT
BEGIN:STANDARD
TZOFFSETFROM:+0200
TZOFFSETTO:+0100
TZNAME:CET
DTSTART:20221030T010000
END:STANDARD
BEGIN:DAYLIGHT
TZOFFSETFROM:+0100
TZOFFSETTO:+0200
TZNAME:CEST
DTSTART:20230326T010000
END:DAYLIGHT
BEGIN:STANDARD
TZOFFSETFROM:+0200
TZOFFSETTO:+0100
TZNAME:CET
DTSTART:20231029T010000
END:STANDARD
END:VTIMEZONE
BEGIN:VEVENT
DTSTART;TZID=Europe/Paris:20221006T000000
DTEND;TZID=Europe/Paris:20221006T000000
DTSTAMP:20260423T153559
CREATED:20230220T171855Z
LAST-MODIFIED:20230220T171855Z
UID:2805-1665014400-1665014400@solaire-en-nord.fr
SUMMARY:Temps d’échanges autour des sujets de la sobriété énergétique - LEZENNES
DESCRIPTION:
URL:https://solaire-en-nord.fr/calendrier/temps-dechanges-autour-des-sujets-de-la-sobriete-energetique-lezennes-2/
END:VEVENT
BEGIN:VEVENT
DTSTART;TZID=Europe/Paris:20221008T000000
DTEND;TZID=Europe/Paris:20221008T000000
DTSTAMP:20260423T153559
CREATED:20230220T171855Z
LAST-MODIFIED:20230220T171855Z
UID:2806-1665187200-1665187200@solaire-en-nord.fr
SUMMARY:Conseil d'Administration
DESCRIPTION:
URL:https://solaire-en-nord.fr/calendrier/conseil-dadministration-6/
END:VEVENT
BEGIN:VEVENT
DTSTART;TZID=Europe/Paris:20221014T000000
DTEND;TZID=Europe/Paris:20221014T000000
DTSTAMP:20260423T153559
CREATED:20230220T171855Z
LAST-MODIFIED:20230220T171855Z
UID:2807-1665705600-1665705600@solaire-en-nord.fr
SUMMARY:Maker Faire Lille
DESCRIPTION:
URL:https://solaire-en-nord.fr/calendrier/maker-faire-lille-2/
END:VEVENT
BEGIN:VEVENT
DTSTART;TZID=Europe/Paris:20221019T000000
DTEND;TZID=Europe/Paris:20221019T000000
DTSTAMP:20260423T153559
CREATED:20230220T171856Z
LAST-MODIFIED:20230220T171856Z
UID:2808-1666137600-1666137600@solaire-en-nord.fr
SUMMARY:SAINGHIN EN MELANTOIS - Réunion publique - Économies d’énergies et énergie solaire
DESCRIPTION:
URL:https://solaire-en-nord.fr/calendrier/sainghin-en-melantois-reunion-publique-economies-denergies-et-energie-solaire-2/
END:VEVENT
BEGIN:VEVENT
DTSTART;TZID=Europe/Paris:20221021T000000
DTEND;TZID=Europe/Paris:20221021T000000
DTSTAMP:20260423T153559
CREATED:20230220T171910Z
LAST-MODIFIED:20230220T171910Z
UID:2809-1666310400-1666310400@solaire-en-nord.fr
SUMMARY:Fête de l'énergie - Quesnoy-sur-Deule
DESCRIPTION:
URL:https://solaire-en-nord.fr/calendrier/fete-de-lenergie-quesnoy-sur-deule-2/
END:VEVENT
BEGIN:VEVENT
DTSTART;TZID=Europe/Paris:20221022T000000
DTEND;TZID=Europe/Paris:20221022T000000
DTSTAMP:20260423T153559
CREATED:20230220T171910Z
LAST-MODIFIED:20230220T171910Z
UID:2810-1666396800-1666396800@solaire-en-nord.fr
SUMMARY:CCPC : Salon Eco-construction Eco-rénovation
DESCRIPTION:
URL:https://solaire-en-nord.fr/calendrier/ccpc-salon-eco-construction-eco-renovation-2/
END:VEVENT
END:VCALENDAR