BEGIN:VCALENDAR
VERSION:2.0
PRODID:-//Solaire en Nord - ECPv6.15.20//NONSGML v1.0//EN
CALSCALE:GREGORIAN
METHOD:PUBLISH
X-WR-CALNAME:Solaire en Nord
X-ORIGINAL-URL:https://solaire-en-nord.fr
X-WR-CALDESC:Évènements pour Solaire en Nord
REFRESH-INTERVAL;VALUE=DURATION:PT1H
X-Robots-Tag:noindex
X-PUBLISHED-TTL:PT1H
BEGIN:VTIMEZONE
TZID:Europe/Paris
BEGIN:DAYLIGHT
TZOFFSETFROM:+0100
TZOFFSETTO:+0200
TZNAME:CEST
DTSTART:20210328T010000
END:DAYLIGHT
BEGIN:STANDARD
TZOFFSETFROM:+0200
TZOFFSETTO:+0100
TZNAME:CET
DTSTART:20211031T010000
END:STANDARD
BEGIN:DAYLIGHT
TZOFFSETFROM:+0100
TZOFFSETTO:+0200
TZNAME:CEST
DTSTART:20220327T010000
END:DAYLIGHT
BEGIN:STANDARD
TZOFFSETFROM:+0200
TZOFFSETTO:+0100
TZNAME:CET
DTSTART:20221030T010000
END:STANDARD
BEGIN:DAYLIGHT
TZOFFSETFROM:+0100
TZOFFSETTO:+0200
TZNAME:CEST
DTSTART:20230326T010000
END:DAYLIGHT
BEGIN:STANDARD
TZOFFSETFROM:+0200
TZOFFSETTO:+0100
TZNAME:CET
DTSTART:20231029T010000
END:STANDARD
END:VTIMEZONE
BEGIN:VEVENT
DTSTART;TZID=Europe/Paris:20221103T000000
DTEND;TZID=Europe/Paris:20221103T000000
DTSTAMP:20260423T140959
CREATED:20230220T171910Z
LAST-MODIFIED:20230220T171910Z
UID:2811-1667433600-1667433600@solaire-en-nord.fr
SUMMARY:Inauguration centrale citoyenne Bazaar St-So
DESCRIPTION:
URL:https://solaire-en-nord.fr/calendrier/inauguration-centrale-citoyenne-bazaar-st-so-2/
END:VEVENT
BEGIN:VEVENT
DTSTART;TZID=Europe/Paris:20221116T000000
DTEND;TZID=Europe/Paris:20221116T000000
DTSTAMP:20260423T140959
CREATED:20230220T171911Z
LAST-MODIFIED:20230220T171911Z
UID:2812-1668556800-1668556800@solaire-en-nord.fr
SUMMARY:Forum des Outils de la Transition#2 à Amiens
DESCRIPTION:
URL:https://solaire-en-nord.fr/calendrier/forum-des-outils-de-la-transition2-a-amiens-2/
END:VEVENT
BEGIN:VEVENT
DTSTART;TZID=Europe/Paris:20221119T000000
DTEND;TZID=Europe/Paris:20221119T000000
DTSTAMP:20260423T140959
CREATED:20230220T171925Z
LAST-MODIFIED:20230220T171925Z
UID:2813-1668816000-1668816000@solaire-en-nord.fr
SUMMARY:LOOS - Intervention et échanges sur l'énergie solaire
DESCRIPTION:
URL:https://solaire-en-nord.fr/calendrier/loos-intervention-et-echanges-sur-lenergie-solaire-2/
END:VEVENT
BEGIN:VEVENT
DTSTART;TZID=Europe/Paris:20221126T000000
DTEND;TZID=Europe/Paris:20221126T000000
DTSTAMP:20260423T140959
CREATED:20230220T171925Z
LAST-MODIFIED:20230220T171925Z
UID:2814-1669420800-1669420800@solaire-en-nord.fr
SUMMARY:Inauguration centrale citoyenne de Tressin
DESCRIPTION:
URL:https://solaire-en-nord.fr/calendrier/inauguration-centrale-citoyenne-de-tressin-2/
END:VEVENT
BEGIN:VEVENT
DTSTART;TZID=Europe/Paris:20221126T000000
DTEND;TZID=Europe/Paris:20221126T000000
DTSTAMP:20260423T140959
CREATED:20230220T171926Z
LAST-MODIFIED:20230220T171926Z
UID:2815-1669420800-1669420800@solaire-en-nord.fr
SUMMARY:Fête de l'éco-attitude de Villeneuve d'Ascq
DESCRIPTION:
URL:https://solaire-en-nord.fr/calendrier/fete-de-leco-attitude-de-villeneuve-dascq-2/
END:VEVENT
END:VCALENDAR